BEGIN:VCALENDAR
VERSION:2.0
PRODID:-//hacksw/handcal//NONSGML v1.0//EN
BEGIN:VEVENT
SUMMARY:GP DU PAYS DE BESSE (24) - ELITE
UID:e19d1c60-ab76-45e7-85f6-44d8e495d082
DTSTART:20260417T220000Z
DTEND:20260418T220000Z
LOCATION:Localisation   
CATEGORIES:Sportif
STATUS:
URL;VALUE=URI:https://www.pedalesaintflorentaiseniort.net/evenements/2026/04/18/gp-du-pays-de-besse-24-elite-2443289
END:VEVENT
END:VCALENDAR
